Workbook

Sheet Mode d’emploi
A1: Épisode 23 — SOMME.SI.ENS et NB.SI.ENS : plusieurs critères pour construire une balance
A2: Série « Excel de zéro à héros pour la comptabilité et la finance » — ExpertiseComptable.ma
A4: Onglet « Journal » : 18 lignes de janvier et février. Onglet « Balance » : une ligne par compte, les mouvements de la période choisie en I2:J2 (du / au) et les cumuls à la date de fin.
A5: Complétez les colonnes B, C, E et F avec SOMME.SI.ENS (compte + dates), puis les soldes et les totaux.
A6: Changez la période (par exemple du 01/01 au 31/01) : la balance se recalcule.
A7: Contrôle : total débit = total crédit, en période comme en cumul.
A9: Cellules jaunes : à compléter. Cellules grises : en-têtes. Les onglets « (corrigé) » contiennent la solution : essayez d’abord sans y regarder.
A10: Données fictives, fournies à titre pédagogique. Les formules sont écrites pour Excel en français (Microsoft 365 ou Excel 2021) ; si une fonction manque dans votre version, l’épisode indique l’équivalent.

Sheet Journal
A1: Date | B1: Compte | C1: Débit | D1: Crédit
A2: 46027 | B2: 6111 | C2: 10000
A3: 46027 | B3: 3455 | C3: 2000
A4: 46027 | B4: 4411 | D4: 12000
A5: 46030 | B5: 3421 | C5: 6000
A6: 46030 | B6: 7111 | D6: 5000
A7: 46030 | B7: 4455 | D7: 1000
A8: 46037 | B8: 5141 | C8: 6000
A9: 46037 | B9: 3421 | D9: 6000
A10: 46042 | B10: 4411 | C10: 12000
A11: 46042 | B11: 5141 | D11: 12000
A12: 46047 | B12: 6131 | C12: 8500
A13: 46047 | B13: 5141 | D13: 8500
A14: 46056 | B14: 3421 | C14: 9600
A15: 46056 | B15: 7111 | D15: 8000
A16: 46056 | B16: 4455 | D16: 1600
A17: 46063 | B17: 6111 | C17: 4000
A18: 46063 | B18: 3455 | C18: 800
A19: 46063 | B19: 4411 | D19: 4800

Sheet Balance
A1: Compte | B1: Débit période | C1: Crédit période | D1: Solde période | E1: Cumul débit | F1: Cumul crédit | G1: Solde cumulé | I1: Du | J1: Au
A2: 3421 | D2: =B2-C2 -> 9600 | G2: =E2-F2 -> 9600 | I2: 46054 | J2: 46081
A3: 3455 | D3: =B3-C3 -> 800 | G3: =E3-F3 -> 2800
A4: 4411 | D4: =B4-C4 -> -4800 | G4: =E4-F4 -> -4800
A5: 4455 | D5: =B5-C5 -> -1600 | G5: =E5-F5 -> -2600
A6: 5141 | D6: =B6-C6 -> 0 | G6: =E6-F6 -> -14500
A7: 6111 | D7: =B7-C7 -> 4000 | G7: =E7-F7 -> 14000
A8: 6131 | D8: =B8-C8 -> 0 | G8: =E8-F8 -> 8500
A9: 7111 | D9: =B9-C9 -> -8000 | G9: =E9-F9 -> -13000
A10: Totaux | B10: =SUM(B2:B9) -> 14400 | C10: =SUM(C2:C9) -> 14400 | D10: =SUM(D2:D9) -> 0 | E10: =SUM(E2:E9) -> 58900 | F10: =SUM(F2:F9) -> 58900 | G10: =SUM(G2:G9) -> 0
A11: Nombre de lignes février | B11: =COUNTIFS(Journal!$A$2:$A$19,">="&$I$2,Journal!$A$2:$A$19,"<="&$J$2) -> 6

Sheet Balance (corrigé)
A1: Compte | B1: Débit période | C1: Crédit période | D1: Solde période | E1: Cumul débit | F1: Cumul crédit | G1: Solde cumulé | I1: Du | J1: Au
A2: 3421 | B2: =SUMIFS(Journal!$C$2:$C$19,Journal!$B$2:$B$19,A2,Journal!$A$2:$A$19,">="&$I$2,Journal!$A$2:$A$19,"<="&$J$2) -> 9600 | C2: =SUMIFS(Journal!$D$2:$D$19,Journal!$B$2:$B$19,A2,Journal!$A$2:$A$19,">="&$I$2,Journal!$A$2:$A$19,"<="&$J$2) -> 0 | D2: =B2-C2 -> 9600 | E2: =SUMIFS(Journal!$C$2:$C$19,Journal!$B$2:$B$19,A2,Journal!$A$2:$A$19,"<="&$J$2) -> 15600 | F2: =SUMIFS(Journal!$D$2:$D$19,Journal!$B$2:$B$19,A2,Journal!$A$2:$A$19,"<="&$J$2) -> 6000 | G2: =E2-F2 -> 9600 | I2: 46054 | J2: 46081
A3: 3455 | B3: =SUMIFS(Journal!$C$2:$C$19,Journal!$B$2:$B$19,A3,Journal!$A$2:$A$19,">="&$I$2,Journal!$A$2:$A$19,"<="&$J$2) -> 800 | C3: =SUMIFS(Journal!$D$2:$D$19,Journal!$B$2:$B$19,A3,Journal!$A$2:$A$19,">="&$I$2,Journal!$A$2:$A$19,"<="&$J$2) -> 0 | D3: =B3-C3 -> 800 | E3: =SUMIFS(Journal!$C$2:$C$19,Journal!$B$2:$B$19,A3,Journal!$A$2:$A$19,"<="&$J$2) -> 2800 | F3: =SUMIFS(Journal!$D$2:$D$19,Journal!$B$2:$B$19,A3,Journal!$A$2:$A$19,"<="&$J$2) -> 0 | G3: =E3-F3 -> 2800
A4: 4411 | B4: =SUMIFS(Journal!$C$2:$C$19,Journal!$B$2:$B$19,A4,Journal!$A$2:$A$19,">="&$I$2,Journal!$A$2:$A$19,"<="&$J$2) -> 0 | C4: =SUMIFS(Journal!$D$2:$D$19,Journal!$B$2:$B$19,A4,Journal!$A$2:$A$19,">="&$I$2,Journal!$A$2:$A$19,"<="&$J$2) -> 4800 | D4: =B4-C4 -> -4800 | E4: =SUMIFS(Journal!$C$2:$C$19,Journal!$B$2:$B$19,A4,Journal!$A$2:$A$19,"<="&$J$2) -> 12000 | F4: =SUMIFS(Journal!$D$2:$D$19,Journal!$B$2:$B$19,A4,Journal!$A$2:$A$19,"<="&$J$2) -> 16800 | G4: =E4-F4 -> -4800
A5: 4455 | B5: =SUMIFS(Journal!$C$2:$C$19,Journal!$B$2:$B$19,A5,Journal!$A$2:$A$19,">="&$I$2,Journal!$A$2:$A$19,"<="&$J$2) -> 0 | C5: =SUMIFS(Journal!$D$2:$D$19,Journal!$B$2:$B$19,A5,Journal!$A$2:$A$19,">="&$I$2,Journal!$A$2:$A$19,"<="&$J$2) -> 1600 | D5: =B5-C5 -> -1600 | E5: =SUMIFS(Journal!$C$2:$C$19,Journal!$B$2:$B$19,A5,Journal!$A$2:$A$19,"<="&$J$2) -> 0 | F5: =SUMIFS(Journal!$D$2:$D$19,Journal!$B$2:$B$19,A5,Journal!$A$2:$A$19,"<="&$J$2) -> 2600 | G5: =E5-F5 -> -2600
A6: 5141 | B6: =SUMIFS(Journal!$C$2:$C$19,Journal!$B$2:$B$19,A6,Journal!$A$2:$A$19,">="&$I$2,Journal!$A$2:$A$19,"<="&$J$2) -> 0 | C6: =SUMIFS(Journal!$D$2:$D$19,Journal!$B$2:$B$19,A6,Journal!$A$2:$A$19,">="&$I$2,Journal!$A$2:$A$19,"<="&$J$2) -> 0 | D6: =B6-C6 -> 0 | E6: =SUMIFS(Journal!$C$2:$C$19,Journal!$B$2:$B$19,A6,Journal!$A$2:$A$19,"<="&$J$2) -> 6000 | F6: =SUMIFS(Journal!$D$2:$D$19,Journal!$B$2:$B$19,A6,Journal!$A$2:$A$19,"<="&$J$2) -> 20500 | G6: =E6-F6 -> -14500
A7: 6111 | B7: =SUMIFS(Journal!$C$2:$C$19,Journal!$B$2:$B$19,A7,Journal!$A$2:$A$19,">="&$I$2,Journal!$A$2:$A$19,"<="&$J$2) -> 4000 | C7: =SUMIFS(Journal!$D$2:$D$19,Journal!$B$2:$B$19,A7,Journal!$A$2:$A$19,">="&$I$2,Journal!$A$2:$A$19,"<="&$J$2) -> 0 | D7: =B7-C7 -> 4000 | E7: =SUMIFS(Journal!$C$2:$C$19,Journal!$B$2:$B$19,A7,Journal!$A$2:$A$19,"<="&$J$2) -> 14000 | F7: =SUMIFS(Journal!$D$2:$D$19,Journal!$B$2:$B$19,A7,Journal!$A$2:$A$19,"<="&$J$2) -> 0 | G7: =E7-F7 -> 14000
A8: 6131 | B8: =SUMIFS(Journal!$C$2:$C$19,Journal!$B$2:$B$19,A8,Journal!$A$2:$A$19,">="&$I$2,Journal!$A$2:$A$19,"<="&$J$2) -> 0 | C8: =SUMIFS(Journal!$D$2:$D$19,Journal!$B$2:$B$19,A8,Journal!$A$2:$A$19,">="&$I$2,Journal!$A$2:$A$19,"<="&$J$2) -> 0 | D8: =B8-C8 -> 0 | E8: =SUMIFS(Journal!$C$2:$C$19,Journal!$B$2:$B$19,A8,Journal!$A$2:$A$19,"<="&$J$2) -> 8500 | F8: =SUMIFS(Journal!$D$2:$D$19,Journal!$B$2:$B$19,A8,Journal!$A$2:$A$19,"<="&$J$2) -> 0 | G8: =E8-F8 -> 8500
A9: 7111 | B9: =SUMIFS(Journal!$C$2:$C$19,Journal!$B$2:$B$19,A9,Journal!$A$2:$A$19,">="&$I$2,Journal!$A$2:$A$19,"<="&$J$2) -> 0 | C9: =SUMIFS(Journal!$D$2:$D$19,Journal!$B$2:$B$19,A9,Journal!$A$2:$A$19,">="&$I$2,Journal!$A$2:$A$19,"<="&$J$2) -> 8000 | D9: =B9-C9 -> -8000 | E9: =SUMIFS(Journal!$C$2:$C$19,Journal!$B$2:$B$19,A9,Journal!$A$2:$A$19,"<="&$J$2) -> 0 | F9: =SUMIFS(Journal!$D$2:$D$19,Journal!$B$2:$B$19,A9,Journal!$A$2:$A$19,"<="&$J$2) -> 13000 | G9: =E9-F9 -> -13000
A10: Totaux | B10: =SUM(B2:B9) -> 14400 | C10: =SUM(C2:C9) -> 14400 | D10: =SUM(D2:D9) -> 0 | E10: =SUM(E2:E9) -> 58900 | F10: =SUM(F2:F9) -> 58900 | G10: =SUM(G2:G9) -> 0
A11: Nombre de lignes février | B11: =COUNTIFS(Journal!$A$2:$A$19,">="&$I$2,Journal!$A$2:$A$19,"<="&$J$2) -> 6
